BEGIN:VCALENDAR
VERSION:2.0
PRODID:-//ChamberMaster//Event Calendar 2.0//EN
METHOD:PUBLISH
X-PUBLISHED-TTL:P3D
REFRESH-INTERVAL:P3D
CALSCALE:GREGORIAN
BEGIN:VEVENT
DTSTART:20221203T160000Z
DTEND:20221203T180000Z
X-MICROSOFT-CDO-ALLDAYEVENT:FALSE
SUMMARY:Winter Holiday Fun Day
DESCRIPTION:Families and children of all ages are invited to the library for a fun morning of winter and holiday themed activities. All ages welcome but children under 7 need an adult or mature teen companion. Have fun decorating hand warmers to give as gifts\, making ornaments or window hangers\, and decorating an edible tree. The library will provide stationery\, stickers\, stampers\, and envelopes for kids to write a letter to Santa\, a relative\, or a friend. The library's green screen will be all set up for pictures with a choice of winter or Christmas backgrounds. The day will conclude with an indoor snowball fight at 11:45 am.
X-ALT-DESC;FMTTYPE=text/html:Families and children of all ages are invited to the library for a fun morning of winter and holiday themed activities. All ages welcome but children under 7 need an adult or mature teen companion. Have fun decorating hand warmers to give as gifts\, making ornaments or window hangers\, and decorating an edible tree. The library will provide stationery\, stickers\, stampers\, and envelopes for kids to write a letter to Santa\, a relative\, or a friend. The library&rsquo\;s green screen will be all set up for pictures with a choice of winter or Christmas backgrounds. The day will conclude with an indoor snowball fight at 11:45 am.
LOCATION:James Kennedy Public Library
UID:e.2958.854
SEQUENCE:3
DTSTAMP:20260420T122549Z
URL:https://chamber.dyersville.org/events/details/winter-holiday-fun-day-12-03-2022-854
END:VEVENT

END:VCALENDAR
