BEGIN:VCALENDAR
VERSION:2.0
PRODID:-//ChamberMaster//Event Calendar 2.0//EN
METHOD:PUBLISH
X-PUBLISHED-TTL:P3D
REFRESH-INTERVAL:P3D
CALSCALE:GREGORIAN
BEGIN:VEVENT
DTSTART:20230218T230000Z
DTEND:20230218T180000Z
X-MICROSOFT-CDO-ALLDAYEVENT:FALSE
SUMMARY:Winterfest
DESCRIPTION:St. Paul Winterfest is having their annual event in the Worthington Memorial Hall ~ Feb. 18\, 2023 ~ TRUCKNG in the USA. Dinner\, Live and Silent Auction. Social hour\, cash bar & appetizers 5:00 pm - 6:30 pm. Hand carved Prime rib served at 6:45 pm. Raffle tickets 3-$50\, 6-$100\, prizes $1\,000\, 2-$500\, 2-$250\, winners will be drawn at the event\, need not be present to win!
X-ALT-DESC;FMTTYPE=text/html:St. Paul Winterfest is having their annual event in the Worthington Memorial Hall ~ Feb. 18\, 2023 ~ TRUCKNG in the USA. Dinner\, Live and Silent Auction. Social hour\, cash bar &amp\; appetizers 5:00 pm - 6:30 pm. Hand carved Prime rib served at 6:45 pm. Raffle tickets 3-$50\, 6-$100\, prizes $1\,000\, 2-$500\, 2-$250\, winners will be drawn at the event\, need not be present to win!
LOCATION:Worthington Memorial Hall
UID:e.2958.897
SEQUENCE:3
DTSTAMP:20260420T150939Z
URL:https://chamber.dyersville.org/events/details/winterfest-897
END:VEVENT

END:VCALENDAR
