BEGIN:VCALENDAR
VERSION:2.0
PRODID:-//ChamberMaster//Event Calendar 2.0//EN
METHOD:PUBLISH
X-PUBLISHED-TTL:P3D
REFRESH-INTERVAL:P3D
CALSCALE:GREGORIAN
BEGIN:VEVENT
DTSTART;VALUE=DATE:20211011
DTEND;VALUE=DATE:20211115
TRANSP:TRANSPARENT
X-MICROSOFT-CDO-ALLDAYEVENT:TRUE
SUMMARY:Wreath-It-Up Fundraiser Silent Auction
DESCRIPTION:Many wreaths\, wall hangings\, and tabletop home decor items have been donated for this year's fundraiser at the James Kennedy Public Library. All items are on display in the library and photographs are posted on Facebook and the library's website. Bids can be placed in person at the library\, by calling the library\, or emailing librarian@dyersville.lib.ia.us. The silent auction ends promptly at 3:00 pm on November 14.
X-ALT-DESC;FMTTYPE=text/html:Many wreaths\, wall hangings\, and tabletop home decor items have been donated for this year&rsquo\;s fundraiser at the James Kennedy Public Library. All items are on display in the library and photographs are posted on Facebook and the library&rsquo\;s website. Bids can be placed in person at the library\, by calling the library\, or emailing librarian@dyersville.lib.ia.us. The silent auction ends promptly at 3:00 pm on November 14.
LOCATION:James Kennedy Public Library
UID:e.2958.412
SEQUENCE:3
DTSTAMP:20260424T232519Z
URL:https://chamber.dyersville.org/events/details/wreath-it-up-fundraiser-silent-auction-412
END:VEVENT

END:VCALENDAR
