BEGIN:VCALENDAR
VERSION:2.0
PRODID:-//ChamberMaster//Event Calendar 2.0//EN
METHOD:PUBLISH
X-PUBLISHED-TTL:P3D
REFRESH-INTERVAL:P3D
CALSCALE:GREGORIAN
BEGIN:VEVENT
DTSTART:20260321T130000Z
DTEND:20260321T160000Z
X-MICROSOFT-CDO-ALLDAYEVENT:FALSE
SUMMARY:Xavier/Beckman Can Drive Fundraiser
DESCRIPTION:The Beckman Catholic Student Government\, along with the St. Francis Xavier School Association\, will be hosting a can drive on Saturday\, March 21\, from 8:00am-11:00am as a fundraiser at Xavier's West parking Lot. After Dropping off cans\, you will receive a new clean bag and flyer as a reminder of their next dates. Bring cans sorted or unsorted. Plastic \,aluminum and glass accepted.
X-ALT-DESC;FMTTYPE=text/html:The Beckman Catholic Student Government\, along with the St. Francis Xavier School Association\, will be hosting a can drive on Saturday\, March 21\, from 8:00am-11:00am as a fundraiser at Xavier&#39\;s West parking Lot. After Dropping off cans\, you will receive a new clean bag and flyer as a reminder of their next dates. Bring cans sorted or unsorted. Plastic \,aluminum and glass accepted.
LOCATION:St. Francis Xavier Elementary School West Parking Lot
UID:e.2958.1798
SEQUENCE:3
DTSTAMP:20260421T123319Z
URL:https://chamber.dyersville.org/events/details/xavier-beckman-can-drive-fundraiser-1798
END:VEVENT

END:VCALENDAR
